BEGIN:VCALENDAR
VERSION:2.0
PRODID:-//Aub Association - ECPv6.15.20//NONSGML v1.0//EN
CALSCALE:GREGORIAN
METHOD:PUBLISH
X-ORIGINAL-URL:https://aub.org.bw
X-WR-CALDESC:Events for Aub Association
REFRESH-INTERVAL;VALUE=DURATION:PT1H
X-Robots-Tag:noindex
X-PUBLISHED-TTL:PT1H
BEGIN:VTIMEZONE
TZID:UTC
BEGIN:STANDARD
TZOFFSETFROM:+0000
TZOFFSETTO:+0000
TZNAME:UTC
DTSTART:20240101T000000
END:STANDARD
END:VTIMEZONE
BEGIN:VEVENT
DTSTART;TZID=UTC:20251009T120000
DTEND;TZID=UTC:20251009T233000
DTSTAMP:20260423T204530
CREATED:20220123T095019Z
LAST-MODIFIED:20250811T140833Z
UID:1340-1760011200-1760052600@aub.org.bw
SUMMARY:Uganda's Independence Celebration
DESCRIPTION:Politics on climate change will fluctuate throughout the year. Even though these two crises are intertwined\, the more economic worries preoccupy politicians\, the less political capital will be spent on climate change activities. Nonetheless\, many parts of the world will make steady progress in lowering carbon emissions and increasing the use of renewable energy. Reports of natural disasters caused by climate change will provide fuel for more political action throughout the year.
URL:https://aub.org.bw/event/the-economy-of-the-us-what-are-the-weakest-spots-four/
LOCATION:AUB Executive
CATEGORIES:Programme
ATTACH;FMTTYPE=image/jpeg:https://aub.org.bw/wp-content/uploads/2022/01/indep-celeb-1.jpg
END:VEVENT
BEGIN:VEVENT
DTSTART;TZID=UTC:20250603T060000
DTEND;TZID=UTC:20250603T233000
DTSTAMP:20260423T204530
CREATED:20220123T094900Z
LAST-MODIFIED:20250811T141044Z
UID:5057-1748930400-1748993400@aub.org.bw
SUMMARY:Uganda Martyr's day
DESCRIPTION:Politics on climate change will fluctuate throughout the year. Even though these two crises are intertwined\, the more economic worries preoccupy politicians\, the less political capital will be spent on climate change activities. Nonetheless\, many parts of the world will make steady progress in lowering carbon emissions and increasing the use of renewable energy. Reports of natural disasters caused by climate change will provide fuel for more political action throughout the year.
URL:https://aub.org.bw/event/the-economy-of-the-us-what-are-the-weakest-spots2-2/
LOCATION:Romn Catholic Church\, Gaborone\, Botswana
CATEGORIES:Programme
ATTACH;FMTTYPE=image/jpeg:https://aub.org.bw/wp-content/uploads/2022/01/Karoli_Lwanga_and_his_followers.jpg
END:VEVENT
BEGIN:VEVENT
DTSTART;TZID=UTC:20250409T060000
DTEND;TZID=UTC:20250409T120000
DTSTAMP:20260423T204530
CREATED:20220123T094900Z
LAST-MODIFIED:20250811T141314Z
UID:1336-1744178400-1744200000@aub.org.bw
SUMMARY:Easter Celebration
DESCRIPTION:Politics on climate change will fluctuate throughout the year. Even though these two crises are intertwined\, the more economic worries preoccupy politicians\, the less political capital will be spent on climate change activities. Nonetheless\, many parts of the world will make steady progress in lowering carbon emissions and increasing the use of renewable energy. Reports of natural disasters caused by climate change will provide fuel for more political action throughout the year.
URL:https://aub.org.bw/event/the-economy-of-the-us-what-are-the-weakest-spots2/
LOCATION:Romn Catholic Church\, Gaborone\, Botswana
CATEGORIES:Programme
ATTACH;FMTTYPE=image/jpeg:https://aub.org.bw/wp-content/uploads/2022/01/easter-2.jpg
END:VEVENT
BEGIN:VEVENT
DTSTART;TZID=UTC:20250323T070000
DTEND;TZID=UTC:20250422T183000
DTSTAMP:20260423T204530
CREATED:20210123T094941Z
LAST-MODIFIED:20250811T141353Z
UID:5058-1742713200-1745346600@aub.org.bw
SUMMARY:Beginning of Ramadan
DESCRIPTION:Politics on climate change will fluctuate throughout the year. Even though these two crises are intertwined\, the more economic worries preoccupy politicians\, the less political capital will be spent on climate change activities. Nonetheless\, many parts of the world will make steady progress in lowering carbon emissions and increasing the use of renewable energy. Reports of natural disasters caused by climate change will provide fuel for more political action throughout the year.
URL:https://aub.org.bw/event/the-economy-of-the-us-what-are-the-weakest-spots-new-2/
LOCATION:Mosque\, Gaborone\, Botswana
CATEGORIES:Programme
ATTACH;FMTTYPE=image/jpeg:https://aub.org.bw/wp-content/uploads/2021/01/ramathan.jpg
ORGANIZER;CN="Khaled Islam":MAILTO:senatory@gmail.com
END:VEVENT
BEGIN:VEVENT
DTSTART;TZID=UTC:20250311T150000
DTEND;TZID=UTC:20250311T170000
DTSTAMP:20260423T204530
CREATED:20220116T023803Z
LAST-MODIFIED:20250811T141712Z
UID:5056-1741705200-1741712400@aub.org.bw
SUMMARY:Association of Ugandan in Botswana AGM
DESCRIPTION:Politics on climate change will fluctuate throughout the year. Even though these two crises are intertwined\, the more economic worries preoccupy politicians\, the less political capital will be spent on climate change activities. Nonetheless\, many parts of the world will make steady progress in lowering carbon emissions and increasing the use of renewable energy. Reports of natural disasters caused by climate change will provide fuel for more political action throughout the year.
URL:https://aub.org.bw/event/summer-2/
LOCATION:Interlink Education Services\, Gaborone\, Botswana
CATEGORIES:Programme
ATTACH;FMTTYPE=image/jpeg:https://aub.org.bw/wp-content/uploads/2022/01/agm.jpg
END:VEVENT
BEGIN:VEVENT
DTSTART;TZID=UTC:20250222T050000
DTEND;TZID=UTC:20250222T170000
DTSTAMP:20260423T204530
CREATED:20210123T094941Z
LAST-MODIFIED:20250811T141742Z
UID:1338-1740200400-1740243600@aub.org.bw
SUMMARY:Ash Wednesday
DESCRIPTION:Politics on climate change will fluctuate throughout the year. Even though these two crises are intertwined\, the more economic worries preoccupy politicians\, the less political capital will be spent on climate change activities. Nonetheless\, many parts of the world will make steady progress in lowering carbon emissions and increasing the use of renewable energy. Reports of natural disasters caused by climate change will provide fuel for more political action throughout the year.
URL:https://aub.org.bw/event/the-economy-of-the-us-what-are-the-weakest-spots-new/
LOCATION:Romn Catholic Church\, Gaborone\, Botswana
CATEGORIES:Programme
ATTACH;FMTTYPE=image/jpeg:https://aub.org.bw/wp-content/uploads/2021/01/ash-wednesday-4.jpg
ORGANIZER;CN="Khaled Islam":MAILTO:senatory@gmail.com
END:VEVENT
END:VCALENDAR